BEGIN:VCALENDAR
VERSION:2.0
PRODID:-//Arthuret Parish Council//Meeting Calendar//EN
CALSCALE:GREGORIAN
METHOD:PUBLISH
BEGIN:VEVENT
UID:72228-20260209@arthuretparishcouncil.gov.uk
DTSTAMP:20260419T115004Z
DTSTART;VALUE=DATE:20260209
DTEND;VALUE=DATE:20260210
SUMMARY:9th February 2026
DESCRIPTION:Finance, Staff and General Purpose Committee Meeting\nView details: https://arthuretparishcouncil.gov.uk/meetings/9th-february-2026/
URL:https://arthuretparishcouncil.gov.uk/meetings/9th-february-2026/
END:VEVENT
END:VCALENDAR
