BEGIN:VCALENDAR
VERSION:2.0
PRODID:-//Arthuret Parish Council//Meeting Calendar//EN
CALSCALE:GREGORIAN
METHOD:PUBLISH
BEGIN:VEVENT
UID:72213-20260119@arthuretparishcouncil.gov.uk
DTSTAMP:20260419T132601Z
DTSTART;VALUE=DATE:20260119
DTEND;VALUE=DATE:20260120
SUMMARY:CANCELLED &#8211\\; 19th January 2026
DESCRIPTION:Finance, Staff and General Purpose Committee Meeting\nView details: https://arthuretparishcouncil.gov.uk/meetings/finance-staffing-and-general-purposes-committee/
URL:https://arthuretparishcouncil.gov.uk/meetings/finance-staffing-and-general-purposes-committee/
END:VEVENT
END:VCALENDAR
