BEGIN:VCALENDAR
VERSION:2.0
PRODID:-//Arthuret Parish Council//Meeting Calendar//EN
CALSCALE:GREGORIAN
METHOD:PUBLISH
BEGIN:VEVENT
UID:72110-20250916@arthuretparishcouncil.gov.uk
DTSTAMP:20260419T150521Z
DTSTART;VALUE=DATE:20250916
DTEND;VALUE=DATE:20250917
SUMMARY:16th September 2025
DESCRIPTION:Finance, Staff and General Purpose Committee Meeting\nView details: https://arthuretparishcouncil.gov.uk/meetings/finance-staffing-general-purposes-2/
URL:https://arthuretparishcouncil.gov.uk/meetings/finance-staffing-general-purposes-2/
END:VEVENT
END:VCALENDAR
