BEGIN:VCALENDAR
VERSION:2.0
PRODID:-//Arthuret Parish Council//Meeting Calendar//EN
CALSCALE:GREGORIAN
METHOD:PUBLISH
BEGIN:VEVENT
UID:72052-20250721@arthuretparishcouncil.gov.uk
DTSTAMP:20260419T121415Z
DTSTART;VALUE=DATE:20250721
DTEND;VALUE=DATE:20250722
SUMMARY:21 July 2025 &#8211\\; Extra Ordinary Meeting
DESCRIPTION:Full Council Meeting\nView details: https://arthuretparishcouncil.gov.uk/meetings/21-july-2025-extra-ordinary-meeting/
URL:https://arthuretparishcouncil.gov.uk/meetings/21-july-2025-extra-ordinary-meeting/
END:VEVENT
END:VCALENDAR
