BEGIN:VCALENDAR
VERSION:2.0
PRODID:-//Arthuret Parish Council//Meeting Calendar//EN
CALSCALE:GREGORIAN
METHOD:PUBLISH
BEGIN:VEVENT
UID:72007-20260511@arthuretparishcouncil.gov.uk
DTSTAMP:20260422T143055Z
DTSTART;VALUE=DATE:20260511
DTEND;VALUE=DATE:20260512
SUMMARY:Annual Meeting 11th May 2026
DESCRIPTION:Annual Meeting\nView details: https://arthuretparishcouncil.gov.uk/meetings/11th-may-2026/
URL:https://arthuretparishcouncil.gov.uk/meetings/11th-may-2026/
END:VEVENT
END:VCALENDAR
