BEGIN:VCALENDAR
VERSION:2.0
PRODID:-//Arthuret Parish Council//Meeting Calendar//EN
CALSCALE:GREGORIAN
METHOD:PUBLISH
BEGIN:VEVENT
UID:72003-20250630@arthuretparishcouncil.gov.uk
DTSTAMP:20260423T084720Z
DTSTART;VALUE=DATE:20250630
DTEND;VALUE=DATE:20250701
SUMMARY:30th June 2025
DESCRIPTION:Full Council Meeting\nView details: https://arthuretparishcouncil.gov.uk/meetings/23rd-june-2025/
URL:https://arthuretparishcouncil.gov.uk/meetings/23rd-june-2025/
END:VEVENT
END:VCALENDAR
