BEGIN:VCALENDAR
VERSION:2.0
PRODID:-//Arthuret Parish Council//Meeting Calendar//EN
CALSCALE:GREGORIAN
METHOD:PUBLISH
BEGIN:VEVENT
UID:71948-20250430@arthuretparishcouncil.gov.uk
DTSTAMP:20260421T083743Z
DTSTART;VALUE=DATE:20250430
DTEND;VALUE=DATE:20250501
SUMMARY:Finance\\, Staffing and General Purposes
DESCRIPTION:Finance, Staff and General Purpose Committee Meeting\nView details: https://arthuretparishcouncil.gov.uk/meetings/finance-staffing-and-general-purposes/
URL:https://arthuretparishcouncil.gov.uk/meetings/finance-staffing-and-general-purposes/
END:VEVENT
END:VCALENDAR
