BEGIN:VCALENDAR
VERSION:2.0
PRODID:-//Arthuret Parish Council//Meeting Calendar//EN
CALSCALE:GREGORIAN
METHOD:PUBLISH
BEGIN:VEVENT
UID:70497-20220202@arthuretparishcouncil.gov.uk
DTSTAMP:20260419T181340Z
DTSTART;VALUE=DATE:20220202
DTEND;VALUE=DATE:20220203
SUMMARY:Council Meetings &#8211\\; 2022
DESCRIPTION:Full Council Meeting\nView details: https://arthuretparishcouncil.gov.uk/meetings/council-meetings-2022/
URL:https://arthuretparishcouncil.gov.uk/meetings/council-meetings-2022/
END:VEVENT
END:VCALENDAR
