BEGIN:VCALENDAR
VERSION:2.0
PRODID:-//Arthuret Parish Council//Meeting Calendar//EN
CALSCALE:GREGORIAN
METHOD:PUBLISH
BEGIN:VEVENT
UID:70495-20231116@arthuretparishcouncil.gov.uk
DTSTAMP:20260419T163130Z
DTSTART;VALUE=DATE:20231116
DTEND;VALUE=DATE:20231117
SUMMARY:Festivities Working Group Meetings
DESCRIPTION:Working Groups Meeting\nView details: https://arthuretparishcouncil.gov.uk/meetings/working-group-meeting-16th-november-2023/
URL:https://arthuretparishcouncil.gov.uk/meetings/working-group-meeting-16th-november-2023/
END:VEVENT
END:VCALENDAR
